BEGIN:VCALENDAR
VERSION:2.0
PRODID:-//OPTI TEAM GER - Brandenburg - ECPv6.15.16//NONSGML v1.0//EN
CALSCALE:GREGORIAN
METHOD:PUBLISH
X-WR-CALNAME:OPTI TEAM GER - Brandenburg
X-ORIGINAL-URL:https://brandenburg.opticlass.de
X-WR-CALDESC:Veranstaltungen für OPTI TEAM GER - Brandenburg
REFRESH-INTERVAL;VALUE=DURATION:PT1H
X-Robots-Tag:noindex
X-PUBLISHED-TTL:PT1H
BEGIN:VTIMEZONE
TZID:Europe/Berlin
BEGIN:DAYLIGHT
TZOFFSETFROM:+0100
TZOFFSETTO:+0200
TZNAME:CEST
DTSTART:20250330T010000
END:DAYLIGHT
BEGIN:STANDARD
TZOFFSETFROM:+0200
TZOFFSETTO:+0100
TZNAME:CET
DTSTART:20251026T010000
END:STANDARD
BEGIN:DAYLIGHT
TZOFFSETFROM:+0100
TZOFFSETTO:+0200
TZNAME:CEST
DTSTART:20260329T010000
END:DAYLIGHT
BEGIN:STANDARD
TZOFFSETFROM:+0200
TZOFFSETTO:+0100
TZNAME:CET
DTSTART:20261025T010000
END:STANDARD
BEGIN:DAYLIGHT
TZOFFSETFROM:+0100
TZOFFSETTO:+0200
TZNAME:CEST
DTSTART:20270328T010000
END:DAYLIGHT
BEGIN:STANDARD
TZOFFSETFROM:+0200
TZOFFSETTO:+0100
TZNAME:CET
DTSTART:20271031T010000
END:STANDARD
END:VTIMEZONE
BEGIN:VEVENT
DTSTART;VALUE=DATE:20260516
DTEND;VALUE=DATE:20260517
DTSTAMP:20260422T184633
CREATED:20260412T114305Z
LAST-MODIFIED:20260412T114305Z
UID:2115-1778889600-1778975999@brandenburg.opticlass.de
SUMMARY:Opti10Fleet Mellensee
DESCRIPTION:C
URL:https://brandenburg.opticlass.de/event/opti10fleet-mellensee/
LOCATION:Wassersportclub am Mellensee e.V.\, Klausdorfer Str. 10 a\, Am Mellensee OT Mellensee\, Brandenburg\, 15838\, Deutschland
CATEGORIES:Opti 10Fleet,Optiliga,Regatten
ORGANIZER;CN="Wassersportclub am Mellensee e.V.":MAILTO:segelulli@hotmail.de
END:VEVENT
BEGIN:VEVENT
DTSTART;VALUE=DATE:20260516
DTEND;VALUE=DATE:20260518
DTSTAMP:20260422T184633
CREATED:20260412T114536Z
LAST-MODIFIED:20260412T114536Z
UID:2118-1778889600-1779062399@brandenburg.opticlass.de
SUMMARY:Opti-Cup Scharmützelsee
DESCRIPTION:A(1\,20)+B
URL:https://brandenburg.opticlass.de/event/opti-cup-scharmuetzelsee-4/
LOCATION:SG Scharmützelsee e.V.\, Regattastraße 2\, Bad Saarow\, Brandenburg\, 15526\, Deutschland
CATEGORIES:Regatten
END:VEVENT
END:VCALENDAR