BEGIN:VCALENDAR
VERSION:2.0
PRODID:-//OPTI TEAM GER - Brandenburg - ECPv6.15.16//NONSGML v1.0//EN
CALSCALE:GREGORIAN
METHOD:PUBLISH
X-WR-CALNAME:OPTI TEAM GER - Brandenburg
X-ORIGINAL-URL:https://brandenburg.opticlass.de
X-WR-CALDESC:Veranstaltungen für OPTI TEAM GER - Brandenburg
REFRESH-INTERVAL;VALUE=DURATION:PT1H
X-Robots-Tag:noindex
X-PUBLISHED-TTL:PT1H
BEGIN:VTIMEZONE
TZID:Europe/Berlin
BEGIN:DAYLIGHT
TZOFFSETFROM:+0100
TZOFFSETTO:+0200
TZNAME:CEST
DTSTART:20250330T010000
END:DAYLIGHT
BEGIN:STANDARD
TZOFFSETFROM:+0200
TZOFFSETTO:+0100
TZNAME:CET
DTSTART:20251026T010000
END:STANDARD
BEGIN:DAYLIGHT
TZOFFSETFROM:+0100
TZOFFSETTO:+0200
TZNAME:CEST
DTSTART:20260329T010000
END:DAYLIGHT
BEGIN:STANDARD
TZOFFSETFROM:+0200
TZOFFSETTO:+0100
TZNAME:CET
DTSTART:20261025T010000
END:STANDARD
BEGIN:DAYLIGHT
TZOFFSETFROM:+0100
TZOFFSETTO:+0200
TZNAME:CEST
DTSTART:20270328T010000
END:DAYLIGHT
BEGIN:STANDARD
TZOFFSETFROM:+0200
TZOFFSETTO:+0100
TZNAME:CET
DTSTART:20271031T010000
END:STANDARD
END:VTIMEZONE
BEGIN:VEVENT
DTSTART;VALUE=DATE:20260613
DTEND;VALUE=DATE:20260615
DTSTAMP:20260423T114711
CREATED:20260412T120118Z
LAST-MODIFIED:20260412T200030Z
UID:2134-1781308800-1781481599@brandenburg.opticlass.de
SUMMARY:Parzival-Cup
DESCRIPTION:B+C
URL:https://brandenburg.opticlass.de/event/pazival-cup/
LOCATION:Reagatta-Segler Neuruppin e.V.\, Regattastraße 17\, Neuruppin\, Brandenburg\, 16816\, Germany
CATEGORIES:Regatten
ORGANIZER;CN="Regatta-Segler Neuruppin e.V.":MAILTO:info@r-s-n.org
END:VEVENT
END:VCALENDAR