BEGIN:VCALENDAR
VERSION:2.0
PRODID:-//OPTI TEAM GER - Brandenburg - ECPv6.15.16//NONSGML v1.0//EN
CALSCALE:GREGORIAN
METHOD:PUBLISH
X-WR-CALNAME:OPTI TEAM GER - Brandenburg
X-ORIGINAL-URL:https://brandenburg.opticlass.de
X-WR-CALDESC:Veranstaltungen für OPTI TEAM GER - Brandenburg
REFRESH-INTERVAL;VALUE=DURATION:PT1H
X-Robots-Tag:noindex
X-PUBLISHED-TTL:PT1H
BEGIN:VTIMEZONE
TZID:Europe/Berlin
BEGIN:DAYLIGHT
TZOFFSETFROM:+0100
TZOFFSETTO:+0200
TZNAME:CEST
DTSTART:20220327T010000
END:DAYLIGHT
BEGIN:STANDARD
TZOFFSETFROM:+0200
TZOFFSETTO:+0100
TZNAME:CET
DTSTART:20221030T010000
END:STANDARD
BEGIN:DAYLIGHT
TZOFFSETFROM:+0100
TZOFFSETTO:+0200
TZNAME:CEST
DTSTART:20230326T010000
END:DAYLIGHT
BEGIN:STANDARD
TZOFFSETFROM:+0200
TZOFFSETTO:+0100
TZNAME:CET
DTSTART:20231029T010000
END:STANDARD
BEGIN:DAYLIGHT
TZOFFSETFROM:+0100
TZOFFSETTO:+0200
TZNAME:CEST
DTSTART:20240331T010000
END:DAYLIGHT
BEGIN:STANDARD
TZOFFSETFROM:+0200
TZOFFSETTO:+0100
TZNAME:CET
DTSTART:20241027T010000
END:STANDARD
END:VTIMEZONE
BEGIN:VEVENT
DTSTART;VALUE=DATE:20230429
DTEND;VALUE=DATE:20230501
DTSTAMP:20260424T133514
CREATED:20230204T153122Z
LAST-MODIFIED:20230326T191431Z
UID:979-1682726400-1682899199@brandenburg.opticlass.de
SUMMARY:Kinder- und Jugendregatta (KJR) 2023 in Potsdam
DESCRIPTION:Opti A (RF 1\,25) + B
URL:https://brandenburg.opticlass.de/event/kinder-und-jugenregatta-kjr-2023-in-potsdam/
LOCATION:Potsdamer Segelverein e.V.\, Templiner Straße 23\, Potsdam\, Brandenburg\, 14473\, Deutschland
CATEGORIES:Regatten
END:VEVENT
END:VCALENDAR