BEGIN:VCALENDAR
VERSION:2.0
PRODID:-//OPTI TEAM GER - Brandenburg - ECPv6.15.16//NONSGML v1.0//EN
CALSCALE:GREGORIAN
METHOD:PUBLISH
X-WR-CALNAME:OPTI TEAM GER - Brandenburg
X-ORIGINAL-URL:https://brandenburg.opticlass.de
X-WR-CALDESC:Veranstaltungen für OPTI TEAM GER - Brandenburg
REFRESH-INTERVAL;VALUE=DURATION:PT1H
X-Robots-Tag:noindex
X-PUBLISHED-TTL:PT1H
BEGIN:VTIMEZONE
TZID:Europe/Berlin
BEGIN:DAYLIGHT
TZOFFSETFROM:+0100
TZOFFSETTO:+0200
TZNAME:CEST
DTSTART:20250330T010000
END:DAYLIGHT
BEGIN:STANDARD
TZOFFSETFROM:+0200
TZOFFSETTO:+0100
TZNAME:CET
DTSTART:20251026T010000
END:STANDARD
BEGIN:DAYLIGHT
TZOFFSETFROM:+0100
TZOFFSETTO:+0200
TZNAME:CEST
DTSTART:20260329T010000
END:DAYLIGHT
BEGIN:STANDARD
TZOFFSETFROM:+0200
TZOFFSETTO:+0100
TZNAME:CET
DTSTART:20261025T010000
END:STANDARD
BEGIN:DAYLIGHT
TZOFFSETFROM:+0100
TZOFFSETTO:+0200
TZNAME:CEST
DTSTART:20270328T010000
END:DAYLIGHT
BEGIN:STANDARD
TZOFFSETFROM:+0200
TZOFFSETTO:+0100
TZNAME:CET
DTSTART:20271031T010000
END:STANDARD
END:VTIMEZONE
BEGIN:VEVENT
DTSTART;VALUE=DATE:20260606
DTEND;VALUE=DATE:20260608
DTSTAMP:20260419T215202
CREATED:20260412T115436Z
LAST-MODIFIED:20260412T115436Z
UID:2131-1780704000-1780876799@brandenburg.opticlass.de
SUMMARY:Landesjugendmeisterschaft Brandenburg
DESCRIPTION:A(1\,25)+B
URL:https://brandenburg.opticlass.de/event/landesjugendmeisterschaft-brandenburg/
LOCATION:Jugendbildungszentrum Blossin e. V\, Waldweg 10\, Heidesee\, Brandenburg\, 15754\, Deutschland
CATEGORIES:Regatten
END:VEVENT
BEGIN:VEVENT
DTSTART;VALUE=DATE:20260613
DTEND;VALUE=DATE:20260615
DTSTAMP:20260419T215202
CREATED:20260412T120118Z
LAST-MODIFIED:20260412T200030Z
UID:2134-1781308800-1781481599@brandenburg.opticlass.de
SUMMARY:Parzival-Cup
DESCRIPTION:B+C
URL:https://brandenburg.opticlass.de/event/pazival-cup/
LOCATION:Reagatta-Segler Neuruppin e.V.\, Regattastraße 17\, Neuruppin\, Brandenburg\, 16816\, Germany
CATEGORIES:Regatten
ORGANIZER;CN="Regatta-Segler Neuruppin e.V.":MAILTO:info@r-s-n.org
END:VEVENT
BEGIN:VEVENT
DTSTART;VALUE=DATE:20260620
DTEND;VALUE=DATE:20260622
DTSTAMP:20260419T215202
CREATED:20260412T120454Z
LAST-MODIFIED:20260412T120454Z
UID:2140-1781913600-1782086399@brandenburg.opticlass.de
SUMMARY:Havelpokal und Preis der Stadt Werder Opti10Fleet
DESCRIPTION:B+C
URL:https://brandenburg.opticlass.de/event/havelpokal-und-preis-der-stadt-werder-opti10fleet/
LOCATION:Seglervereinigung Einheit Werder 1952 e.V.\, Werderwiesen 22\, Werder\, Brandenburg\, 14542\, Deutschland
CATEGORIES:Opti 10Fleet,Optiliga,Regatten
END:VEVENT
END:VCALENDAR